BEGIN:VCALENDAR
VERSION:2.0
PRODID:-//Cagdas yasam - ECPv6.0.9//NONSGML v1.0//EN
CALSCALE:GREGORIAN
METHOD:PUBLISH
X-WR-CALNAME:Cagdas yasam
X-ORIGINAL-URL:https://cagdas-yasam.com
X-WR-CALDESC:Veranstaltungen für Cagdas yasam
REFRESH-INTERVAL;VALUE=DURATION:PT1H
X-Robots-Tag:noindex
X-PUBLISHED-TTL:PT1H
BEGIN:VTIMEZONE
TZID:Europe/Moscow
BEGIN:STANDARD
TZOFFSETFROM:+0300
TZOFFSETTO:+0300
TZNAME:MSK
DTSTART:20210101T000000
END:STANDARD
END:VTIMEZONE
BEGIN:VEVENT
DTSTART;TZID=Europe/Moscow:20211015T080000
DTEND;TZID=Europe/Moscow:20211015T170000
DTSTAMP:20260426T051037
CREATED:20201220T200014Z
LAST-MODIFIED:20201220T200015Z
UID:424-1634284800-1634317200@cagdas-yasam.com
SUMMARY:Nutuk
DESCRIPTION:Atatürk’ün kendi kaleminden çıkan bu eser\, yine Atatürk tarafından\, Cumhuriyet Halk Partisinin 15 -20 Ekim 1927 tarihleri arasında Ankara’da toplanan İkinci Kurultayında 36\,5 saat süren ve altı günde okunan tarihî bir hitabeye dayandığı için Nutuk adını almıştır.
URL:https://cagdas-yasam.com/event/nutuk/
END:VEVENT
BEGIN:VEVENT
DTSTART;TZID=Europe/Moscow:20211029T080000
DTEND;TZID=Europe/Moscow:20211029T170000
DTSTAMP:20260426T051037
CREATED:20201214T090229Z
LAST-MODIFIED:20201214T090230Z
UID:400-1635494400-1635526800@cagdas-yasam.com
SUMMARY:29 Ekim – Cumhuriyet Bayramı
DESCRIPTION:
URL:https://cagdas-yasam.com/event/29-ekim-cumhuriyet-bayrami/
END:VEVENT
END:VCALENDAR